BEGIN:VCALENDAR
VERSION:2.0
PRODID:spatie/icalendar-generator
BEGIN:VTIMEZONE
TZID:UTC
BEGIN:STANDARD
DTSTART:20250725T024259
TZOFFSETFROM:+0000
TZOFFSETTO:+0000
END:STANDARD
END:VTIMEZONE
BEGIN:VEVENT
UID:69e6e4333cfb4
DTSTAMP:20260421T024259Z
SUMMARY:Comedyflash - Die Stand Up Comedy Show
DTSTART:20260509T173000Z
DTEND:20260509T173000Z
END:VEVENT
END:VCALENDAR