BEGIN:VCALENDAR
VERSION:2.0
PRODID:spatie/icalendar-generator
BEGIN:VTIMEZONE
TZID:UTC
BEGIN:STANDARD
DTSTART:20250724T113843
TZOFFSETFROM:+0000
TZOFFSETTO:+0000
END:STANDARD
END:VTIMEZONE
BEGIN:VEVENT
UID:69e61043a4a16
DTSTAMP:20260420T113843Z
SUMMARY:FRHLNG - Hard in den Frühling 26
DTSTART:20260430T200000Z
DTEND:20260501T080000Z
END:VEVENT
END:VCALENDAR