BEGIN:VCALENDAR
VERSION:2.0
PRODID:spatie/icalendar-generator
BEGIN:VTIMEZONE
TZID:UTC
BEGIN:STANDARD
DTSTART:20250724T104807
TZOFFSETFROM:+0000
TZOFFSETTO:+0000
END:STANDARD
END:VTIMEZONE
BEGIN:VEVENT
UID:69e604674530a
DTSTAMP:20260420T104807Z
SUMMARY:Last-Minute Lernen in der Zentralbibliothek
DTSTART:20260420T110000Z
DTEND:20260420T160000Z
END:VEVENT
END:VCALENDAR