BEGIN:VCALENDAR
VERSION:2.0
PRODID:spatie/icalendar-generator
BEGIN:VTIMEZONE
TZID:UTC
BEGIN:STANDARD
DTSTART:20250724T105517
TZOFFSETFROM:+0000
TZOFFSETTO:+0000
END:STANDARD
END:VTIMEZONE
BEGIN:VEVENT
UID:69e606152cfab
DTSTAMP:20260420T105517Z
SUMMARY:Nordic Walking Anfängerkurs
DTSTART:20260609T160000Z
DTEND:20260609T170000Z
END:VEVENT
END:VCALENDAR