BEGIN:VCALENDAR
VERSION:2.0
PRODID:spatie/icalendar-generator
BEGIN:VTIMEZONE
TZID:UTC
BEGIN:STANDARD
DTSTART:20250724T105522
TZOFFSETFROM:+0000
TZOFFSETTO:+0000
END:STANDARD
END:VTIMEZONE
BEGIN:VEVENT
UID:69e6061a7f030
DTSTAMP:20260420T105522Z
SUMMARY:Nordic Walking Anfängerkurs
DTSTART:20260602T160000Z
DTEND:20260602T170000Z
END:VEVENT
END:VCALENDAR