BEGIN:VCALENDAR
VERSION:2.0
PRODID:spatie/icalendar-generator
BEGIN:VTIMEZONE
TZID:UTC
BEGIN:STANDARD
DTSTART:20250723T202134
TZOFFSETFROM:+0000
TZOFFSETTO:+0000
END:STANDARD
END:VTIMEZONE
BEGIN:VEVENT
UID:69e5394e79c35
DTSTAMP:20260419T202134Z
SUMMARY:Unendliche Weiten - Astronomie für Einsteiger
DTSTART:20260429T173000Z
DTEND:20260429T173000Z
END:VEVENT
END:VCALENDAR