BEGIN:VCALENDAR
VERSION:2.0
PRODID:spatie/icalendar-generator
BEGIN:VTIMEZONE
TZID:UTC
BEGIN:STANDARD
DTSTART:20250727T195623
TZOFFSETFROM:+0000
TZOFFSETTO:+0000
END:STANDARD
END:VTIMEZONE
BEGIN:VEVENT
UID:69ea7967b1e50
DTSTAMP:20260423T195623Z
SUMMARY:Perspektiven einer Stadt
DTSTART:20260713T060000Z
DTEND:20260713T060000Z
END:VEVENT
END:VCALENDAR