BEGIN:VCALENDAR
VERSION:2.0
PRODID:spatie/icalendar-generator
BEGIN:VTIMEZONE
TZID:UTC
BEGIN:STANDARD
DTSTART:20250727T151541
TZOFFSETFROM:+0000
TZOFFSETTO:+0000
END:STANDARD
END:VTIMEZONE
BEGIN:VEVENT
UID:69ea379dbe591
DTSTAMP:20260423T151541Z
SUMMARY:Perspektiven einer Stadt
DTSTART:20260706T060000Z
DTEND:20260706T060000Z
END:VEVENT
END:VCALENDAR