BEGIN:VCALENDAR
VERSION:2.0
PRODID:spatie/icalendar-generator
BEGIN:VTIMEZONE
TZID:UTC
BEGIN:STANDARD
DTSTART:20250724T194915
TZOFFSETFROM:+0000
TZOFFSETTO:+0000
END:STANDARD
END:VTIMEZONE
BEGIN:VEVENT
UID:69e6833b778a6
DTSTAMP:20260420T194915Z
SUMMARY:Perspektiven einer Stadt
DTSTART:20260701T060000Z
DTEND:20260701T060000Z
END:VEVENT
END:VCALENDAR