BEGIN:VCALENDAR
VERSION:2.0
PRODID:spatie/icalendar-generator
BEGIN:VTIMEZONE
TZID:UTC
BEGIN:STANDARD
DTSTART:20250727T103327
TZOFFSETFROM:+0000
TZOFFSETTO:+0000
END:STANDARD
END:VTIMEZONE
BEGIN:VEVENT
UID:69e9f5778bd50
DTSTAMP:20260423T103327Z
SUMMARY:Perspektiven einer Stadt
DTSTART:20260629T060000Z
DTEND:20260629T060000Z
END:VEVENT
END:VCALENDAR