BEGIN:VCALENDAR
VERSION:2.0
PRODID:spatie/icalendar-generator
BEGIN:VTIMEZONE
TZID:UTC
BEGIN:STANDARD
DTSTART:20250724T180318
TZOFFSETFROM:+0000
TZOFFSETTO:+0000
END:STANDARD
END:VTIMEZONE
BEGIN:VEVENT
UID:69e66a661929b
DTSTAMP:20260420T180318Z
SUMMARY:Perspektiven einer Stadt
DTSTART:20260625T060000Z
DTEND:20260625T060000Z
END:VEVENT
END:VCALENDAR