BEGIN:VCALENDAR
VERSION:2.0
PRODID:spatie/icalendar-generator
BEGIN:VTIMEZONE
TZID:UTC
BEGIN:STANDARD
DTSTART:20250724T180232
TZOFFSETFROM:+0000
TZOFFSETTO:+0000
END:STANDARD
END:VTIMEZONE
BEGIN:VEVENT
UID:69e66a38003ed
DTSTAMP:20260420T180232Z
SUMMARY:Perspektiven einer Stadt
DTSTART:20260624T060000Z
DTEND:20260624T060000Z
END:VEVENT
END:VCALENDAR