BEGIN:VCALENDAR
VERSION:2.0
PRODID:spatie/icalendar-generator
BEGIN:VTIMEZONE
TZID:UTC
BEGIN:STANDARD
DTSTART:20250727T025001
TZOFFSETFROM:+0000
TZOFFSETTO:+0000
END:STANDARD
END:VTIMEZONE
BEGIN:VEVENT
UID:69e988d92e17e
DTSTAMP:20260423T025001Z
SUMMARY:Perspektiven einer Stadt
DTSTART:20260619T060000Z
DTEND:20260619T060000Z
END:VEVENT
END:VCALENDAR