BEGIN:VCALENDAR
VERSION:2.0
PRODID:spatie/icalendar-generator
BEGIN:VTIMEZONE
TZID:UTC
BEGIN:STANDARD
DTSTART:20250728T101308
TZOFFSETFROM:+0000
TZOFFSETTO:+0000
END:STANDARD
END:VTIMEZONE
BEGIN:VEVENT
UID:69eb42348baf2
DTSTAMP:20260424T101308Z
SUMMARY:Perspektiven einer Stadt
DTSTART:20260616T060000Z
DTEND:20260616T060000Z
END:VEVENT
END:VCALENDAR