BEGIN:VCALENDAR
VERSION:2.0
PRODID:spatie/icalendar-generator
BEGIN:VTIMEZONE
TZID:UTC
BEGIN:STANDARD
DTSTART:20250724T181202
TZOFFSETFROM:+0000
TZOFFSETTO:+0000
END:STANDARD
END:VTIMEZONE
BEGIN:VEVENT
UID:69e66c7246e96
DTSTAMP:20260420T181202Z
SUMMARY:Perspektiven einer Stadt
DTSTART:20260615T060000Z
DTEND:20260615T060000Z
END:VEVENT
END:VCALENDAR