BEGIN:VCALENDAR
VERSION:2.0
PRODID:spatie/icalendar-generator
BEGIN:VTIMEZONE
TZID:UTC
BEGIN:STANDARD
DTSTART:20250726T204649
TZOFFSETFROM:+0000
TZOFFSETTO:+0000
END:STANDARD
END:VTIMEZONE
BEGIN:VEVENT
UID:69e933b98b8be
DTSTAMP:20260422T204649Z
SUMMARY:Perspektiven einer Stadt
DTSTART:20260611T060000Z
DTEND:20260611T060000Z
END:VEVENT
END:VCALENDAR