BEGIN:VCALENDAR
VERSION:2.0
PRODID:spatie/icalendar-generator
BEGIN:VTIMEZONE
TZID:UTC
BEGIN:STANDARD
DTSTART:20250726T184931
TZOFFSETFROM:+0000
TZOFFSETTO:+0000
END:STANDARD
END:VTIMEZONE
BEGIN:VEVENT
UID:69e9183b280b4
DTSTAMP:20260422T184931Z
SUMMARY:Perspektiven einer Stadt
DTSTART:20260610T060000Z
DTEND:20260610T060000Z
END:VEVENT
END:VCALENDAR