BEGIN:VCALENDAR
VERSION:2.0
PRODID:spatie/icalendar-generator
BEGIN:VTIMEZONE
TZID:UTC
BEGIN:STANDARD
DTSTART:20250726T185022
TZOFFSETFROM:+0000
TZOFFSETTO:+0000
END:STANDARD
END:VTIMEZONE
BEGIN:VEVENT
UID:69e9186e1b16a
DTSTAMP:20260422T185022Z
SUMMARY:Perspektiven einer Stadt
DTSTART:20260609T060000Z
DTEND:20260609T060000Z
END:VEVENT
END:VCALENDAR