BEGIN:VCALENDAR
VERSION:2.0
PRODID:spatie/icalendar-generator
BEGIN:VTIMEZONE
TZID:UTC
BEGIN:STANDARD
DTSTART:20250724T180334
TZOFFSETFROM:+0000
TZOFFSETTO:+0000
END:STANDARD
END:VTIMEZONE
BEGIN:VEVENT
UID:69e66a7639aa1
DTSTAMP:20260420T180334Z
SUMMARY:Perspektiven einer Stadt
DTSTART:20260529T060000Z
DTEND:20260529T060000Z
END:VEVENT
END:VCALENDAR