BEGIN:VCALENDAR
VERSION:2.0
PRODID:spatie/icalendar-generator
BEGIN:VTIMEZONE
TZID:UTC
BEGIN:STANDARD
DTSTART:20250725T230808
TZOFFSETFROM:+0000
TZOFFSETTO:+0000
END:STANDARD
END:VTIMEZONE
BEGIN:VEVENT
UID:69e803581c447
DTSTAMP:20260421T230808Z
SUMMARY:Perspektiven einer Stadt
DTSTART:20260522T060000Z
DTEND:20260522T060000Z
END:VEVENT
END:VCALENDAR