BEGIN:VCALENDAR
VERSION:2.0
PRODID:spatie/icalendar-generator
BEGIN:VTIMEZONE
TZID:UTC
BEGIN:STANDARD
DTSTART:20250725T193911
TZOFFSETFROM:+0000
TZOFFSETTO:+0000
END:STANDARD
END:VTIMEZONE
BEGIN:VEVENT
UID:69e7d25fd29c7
DTSTAMP:20260421T193911Z
SUMMARY:Perspektiven einer Stadt
DTSTART:20260518T060000Z
DTEND:20260518T060000Z
END:VEVENT
END:VCALENDAR