BEGIN:VCALENDAR
VERSION:2.0
PRODID:spatie/icalendar-generator
BEGIN:VTIMEZONE
TZID:UTC
BEGIN:STANDARD
DTSTART:20250725T075851
TZOFFSETFROM:+0000
TZOFFSETTO:+0000
END:STANDARD
END:VTIMEZONE
BEGIN:VEVENT
UID:69e72e3b3b730
DTSTAMP:20260421T075851Z
SUMMARY:Perspektiven einer Stadt
DTSTART:20260512T060000Z
DTEND:20260512T060000Z
END:VEVENT
END:VCALENDAR