BEGIN:VCALENDAR
VERSION:2.0
PRODID:spatie/icalendar-generator
BEGIN:VTIMEZONE
TZID:UTC
BEGIN:STANDARD
DTSTART:20250725T060721
TZOFFSETFROM:+0000
TZOFFSETTO:+0000
END:STANDARD
END:VTIMEZONE
BEGIN:VEVENT
UID:69e714191b809
DTSTAMP:20260421T060721Z
SUMMARY:Perspektiven einer Stadt
DTSTART:20260511T060000Z
DTEND:20260511T060000Z
END:VEVENT
END:VCALENDAR