BEGIN:VCALENDAR
VERSION:2.0
PRODID:spatie/icalendar-generator
BEGIN:VTIMEZONE
TZID:UTC
BEGIN:STANDARD
DTSTART:20250724T102522
TZOFFSETFROM:+0000
TZOFFSETTO:+0000
END:STANDARD
END:VTIMEZONE
BEGIN:VEVENT
UID:69e5ff1299852
DTSTAMP:20260420T102522Z
SUMMARY:Perspektiven einer Stadt
DTSTART:20260506T060000Z
DTEND:20260506T060000Z
END:VEVENT
END:VCALENDAR