BEGIN:VCALENDAR
VERSION:2.0
PRODID:spatie/icalendar-generator
BEGIN:VTIMEZONE
TZID:UTC
BEGIN:STANDARD
DTSTART:20250726T025355
TZOFFSETFROM:+0000
TZOFFSETTO:+0000
END:STANDARD
END:VTIMEZONE
BEGIN:VEVENT
UID:69e83843214f4
DTSTAMP:20260422T025355Z
SUMMARY:Couple Of mit Iris Gavric & Matthias Renger
DTSTART:20260524T180000Z
DTEND:20260524T180000Z
END:VEVENT
END:VCALENDAR