BEGIN:VCALENDAR
VERSION:2.0
PRODID:spatie/icalendar-generator
BEGIN:VTIMEZONE
TZID:UTC
BEGIN:STANDARD
DTSTART:20250728T065409
TZOFFSETFROM:+0000
TZOFFSETTO:+0000
END:STANDARD
END:VTIMEZONE
BEGIN:VEVENT
UID:69eb139143dac
DTSTAMP:20260424T065409Z
SUMMARY:Drama Light: Impro-Show
DTSTART:20260916T180000Z
DTEND:20260916T180000Z
END:VEVENT
END:VCALENDAR