BEGIN:VCALENDAR
VERSION:2.0
PRODID:spatie/icalendar-generator
BEGIN:VTIMEZONE
TZID:UTC
BEGIN:STANDARD
DTSTART:20250730T032952
TZOFFSETFROM:+0000
TZOFFSETTO:+0000
END:STANDARD
END:VTIMEZONE
BEGIN:VEVENT
UID:69ed86b0cb35d
DTSTAMP:20260426T032952Z
SUMMARY:+++ FULLY BOOKED +++ English Book Club
DTSTART:20260723T150000Z
DTEND:20260723T150000Z
END:VEVENT
END:VCALENDAR