BEGIN:VCALENDAR
VERSION:2.0
PRODID:spatie/icalendar-generator
BEGIN:VTIMEZONE
TZID:UTC
BEGIN:STANDARD
DTSTART:20250725T083221
TZOFFSETFROM:+0000
TZOFFSETTO:+0000
END:STANDARD
END:VTIMEZONE
BEGIN:VEVENT
UID:69e736152fea5
DTSTAMP:20260421T083221Z
SUMMARY:+++ FULLY BOOKED +++ English Book Club
DTSTART:20260521T150000Z
DTEND:20260521T150000Z
END:VEVENT
END:VCALENDAR