BEGIN:VCALENDAR
VERSION:2.0
PRODID:spatie/icalendar-generator
BEGIN:VTIMEZONE
TZID:UTC
BEGIN:STANDARD
DTSTART:20250724T114013
TZOFFSETFROM:+0000
TZOFFSETTO:+0000
END:STANDARD
END:VTIMEZONE
BEGIN:VEVENT
UID:69e6109d388be
DTSTAMP:20260420T114013Z
SUMMARY:Michael Eller - Es kommt oft anders\, falls man denkt
DTSTART:20260510T180000Z
DTEND:20260510T180000Z
END:VEVENT
END:VCALENDAR