BEGIN:VCALENDAR
VERSION:2.0
PRODID:spatie/icalendar-generator
BEGIN:VTIMEZONE
TZID:UTC
BEGIN:STANDARD
DTSTART:20250724T021043
TZOFFSETFROM:+0000
TZOFFSETTO:+0000
END:STANDARD
END:VTIMEZONE
BEGIN:VEVENT
UID:69e58b2338640
DTSTAMP:20260420T021043Z
SUMMARY:Lies mir doch was vor… - Grundseminar für ehrenamtliche Vorlesep
 at*innen 
DTSTART:20261106T110000Z
DTEND:20261106T163000Z
END:VEVENT
END:VCALENDAR