BEGIN:VCALENDAR
VERSION:2.0
PRODID:spatie/icalendar-generator
BEGIN:VTIMEZONE
TZID:UTC
BEGIN:STANDARD
DTSTART:20250724T113850
TZOFFSETFROM:+0000
TZOFFSETTO:+0000
END:STANDARD
END:VTIMEZONE
BEGIN:VEVENT
UID:69e6104a28f9c
DTSTAMP:20260420T113850Z
SUMMARY:Improvisationsworkshop für Einsteiger
DTSTART:20260425T123000Z
DTEND:20260425T133000Z
END:VEVENT
END:VCALENDAR