BEGIN:VCALENDAR
VERSION:2.0
PRODID:spatie/icalendar-generator
BEGIN:VTIMEZONE
TZID:UTC
BEGIN:STANDARD
DTSTART:20250724T202639
TZOFFSETFROM:+0000
TZOFFSETTO:+0000
END:STANDARD
END:VTIMEZONE
BEGIN:VEVENT
UID:69e68bff082bc
DTSTAMP:20260420T202639Z
SUMMARY:Tag der Insekten
DTSTART:20260704T090000Z
DTEND:20260704T160000Z
END:VEVENT
END:VCALENDAR