BEGIN:VCALENDAR
VERSION:2.0
PRODID:spatie/icalendar-generator
BEGIN:VTIMEZONE
TZID:UTC
BEGIN:STANDARD
DTSTART:20250724T130359
TZOFFSETFROM:+0000
TZOFFSETTO:+0000
END:STANDARD
END:VTIMEZONE
BEGIN:VEVENT
UID:69e6243fc2b72
DTSTAMP:20260420T130359Z
SUMMARY:ZYPH (MA) // 375 CEG (FfM) // Punk Garagerock Krautpunk
DTSTART:20260425T190000Z
DTEND:20260425T190000Z
END:VEVENT
END:VCALENDAR