BEGIN:VCALENDAR
VERSION:2.0
PRODID:spatie/icalendar-generator
BEGIN:VTIMEZONE
TZID:UTC
BEGIN:STANDARD
DTSTART:20250724T113844
TZOFFSETFROM:+0000
TZOFFSETTO:+0000
END:STANDARD
END:VTIMEZONE
BEGIN:VEVENT
UID:69e610442422e
DTSTAMP:20260420T113844Z
SUMMARY:SIXX PAXX - Dreams Tour
DTSTART:20270205T190000Z
DTEND:20270205T190000Z
END:VEVENT
END:VCALENDAR