BEGIN:VCALENDAR
VERSION:2.0
PRODID:spatie/icalendar-generator
BEGIN:VTIMEZONE
TZID:UTC
BEGIN:STANDARD
DTSTART:20250726T150520
TZOFFSETFROM:+0000
TZOFFSETTO:+0000
END:STANDARD
END:VTIMEZONE
BEGIN:VEVENT
UID:69e8e3b0b5781
DTSTAMP:20260422T150520Z
SUMMARY:SIXX PAXX - Dreams Tour
DTSTART:20261108T190000Z
DTEND:20261108T190000Z
END:VEVENT
END:VCALENDAR