BEGIN:VCALENDAR
VERSION:2.0
PRODID:spatie/icalendar-generator
BEGIN:VTIMEZONE
TZID:UTC
BEGIN:STANDARD
DTSTART:20250724T192647
TZOFFSETFROM:+0000
TZOFFSETTO:+0000
END:STANDARD
END:VTIMEZONE
BEGIN:VEVENT
UID:69e67df705682
DTSTAMP:20260420T192647Z
SUMMARY:Immer wieder sonntags - Familienführung
DTSTART:20260912T170000Z
DTEND:20260912T180000Z
END:VEVENT
END:VCALENDAR