BEGIN:VCALENDAR
VERSION:2.0
PRODID:spatie/icalendar-generator
BEGIN:VTIMEZONE
TZID:UTC
BEGIN:STANDARD
DTSTART:20250724T192654
TZOFFSETFROM:+0000
TZOFFSETTO:+0000
END:STANDARD
END:VTIMEZONE
BEGIN:VEVENT
UID:69e67dfe1a217
DTSTAMP:20260420T192654Z
SUMMARY:Immer wieder sonntags - Familienführung
DTSTART:20260823T090000Z
DTEND:20260823T100000Z
END:VEVENT
END:VCALENDAR