BEGIN:VCALENDAR
VERSION:2.0
PRODID:spatie/icalendar-generator
BEGIN:VTIMEZONE
TZID:UTC
BEGIN:STANDARD
DTSTART:20250724T192659
TZOFFSETFROM:+0000
TZOFFSETTO:+0000
END:STANDARD
END:VTIMEZONE
BEGIN:VEVENT
UID:69e67e036d0e9
DTSTAMP:20260420T192659Z
SUMMARY:Immer wieder sonntags - Familienführung
DTSTART:20260510T090000Z
DTEND:20260510T090000Z
END:VEVENT
END:VCALENDAR