BEGIN:VCALENDAR
VERSION:2.0
PRODID:spatie/icalendar-generator
BEGIN:VTIMEZONE
TZID:UTC
BEGIN:STANDARD
DTSTART:20250724T105451
TZOFFSETFROM:+0000
TZOFFSETTO:+0000
END:STANDARD
END:VTIMEZONE
BEGIN:VEVENT
UID:69e605fb3a6ac
DTSTAMP:20260420T105451Z
SUMMARY:Die Pubertäts-Docs (Dr. Jan-Uwe Rogge und Matthias Jung)
DTSTART:20270603T170000Z
DTEND:20270603T170000Z
END:VEVENT
END:VCALENDAR