BEGIN:VCALENDAR
VERSION:2.0
PRODID:spatie/icalendar-generator
BEGIN:VTIMEZONE
TZID:UTC
BEGIN:STANDARD
DTSTART:20250724T114802
TZOFFSETFROM:+0000
TZOFFSETTO:+0000
END:STANDARD
END:VTIMEZONE
BEGIN:VEVENT
UID:69e6127241637
DTSTAMP:20260420T114802Z
SUMMARY:Im Namen der Freiheit
DTSTART:20260425T173000Z
DTEND:20260425T173000Z
END:VEVENT
END:VCALENDAR