BEGIN:VCALENDAR
VERSION:2.0
PRODID:spatie/icalendar-generator
BEGIN:VTIMEZONE
TZID:UTC
BEGIN:STANDARD
DTSTART:20250724T110321
TZOFFSETFROM:+0000
TZOFFSETTO:+0000
END:STANDARD
END:VTIMEZONE
BEGIN:VEVENT
UID:69e607f910854
DTSTAMP:20260420T110321Z
SUMMARY:BOUNCE UNPLUGGED - An Evening With Friends
DTSTART:20270417T180000Z
DTEND:20270417T180000Z
END:VEVENT
END:VCALENDAR