BEGIN:VCALENDAR
VERSION:2.0
PRODID:spatie/icalendar-generator
BEGIN:VTIMEZONE
TZID:UTC
BEGIN:STANDARD
DTSTART:20250724T202640
TZOFFSETFROM:+0000
TZOFFSETTO:+0000
END:STANDARD
END:VTIMEZONE
BEGIN:VEVENT
UID:69e68c0078eed
DTSTAMP:20260420T202640Z
SUMMARY:Führungen für Erwachsene
DTSTART:20260712T090000Z
DTEND:20260712T100000Z
END:VEVENT
END:VCALENDAR