BEGIN:VCALENDAR
VERSION:2.0
PRODID:spatie/icalendar-generator
BEGIN:VTIMEZONE
TZID:UTC
BEGIN:STANDARD
DTSTART:20250724T160336
TZOFFSETFROM:+0000
TZOFFSETTO:+0000
END:STANDARD
END:VTIMEZONE
BEGIN:VEVENT
UID:69e64e58e5490
DTSTAMP:20260420T160336Z
SUMMARY:Ferienkurs im Luisenpark
DTSTART:20261027T080000Z
DTEND:20261028T120000Z
END:VEVENT
END:VCALENDAR