BEGIN:VCALENDAR
VERSION:2.0
PRODID:spatie/icalendar-generator
BEGIN:VTIMEZONE
TZID:UTC
BEGIN:STANDARD
DTSTART:20250724T160519
TZOFFSETFROM:+0000
TZOFFSETTO:+0000
END:STANDARD
END:VTIMEZONE
BEGIN:VEVENT
UID:69e64ebf9f707
DTSTAMP:20260420T160519Z
SUMMARY:Ferienkurs im Luisenpark
DTSTART:20260907T070000Z
DTEND:20260911T140000Z
END:VEVENT
END:VCALENDAR