BEGIN:VCALENDAR
VERSION:2.0
PRODID:spatie/icalendar-generator
BEGIN:VTIMEZONE
TZID:UTC
BEGIN:STANDARD
DTSTART:20250728T070906
TZOFFSETFROM:+0000
TZOFFSETTO:+0000
END:STANDARD
END:VTIMEZONE
BEGIN:VEVENT
UID:69eb1712e5908
DTSTAMP:20260424T070906Z
SUMMARY:Aktion im Freizeithaus
DTSTART:20260925T130000Z
DTEND:20260925T140000Z
END:VEVENT
END:VCALENDAR