BEGIN:VCALENDAR
VERSION:2.0
PRODID:spatie/icalendar-generator
BEGIN:VTIMEZONE
TZID:UTC
BEGIN:STANDARD
DTSTART:20250728T070840
TZOFFSETFROM:+0000
TZOFFSETTO:+0000
END:STANDARD
END:VTIMEZONE
BEGIN:VEVENT
UID:69eb16f835cd6
DTSTAMP:20260424T070840Z
SUMMARY:Aktion im Freizeithaus
DTSTART:20260626T130000Z
DTEND:20260626T140000Z
END:VEVENT
END:VCALENDAR