BEGIN:VCALENDAR
VERSION:2.0
PRODID:spatie/icalendar-generator
BEGIN:VTIMEZONE
TZID:UTC
BEGIN:STANDARD
DTSTART:20250727T140048
TZOFFSETFROM:+0000
TZOFFSETTO:+0000
END:STANDARD
END:VTIMEZONE
BEGIN:VEVENT
UID:69ea261064188
DTSTAMP:20260423T140048Z
SUMMARY:RADIKAL. REAL. Nouveau Réalisme und die Kunst der 1960er Jahre
DTSTART:20261008T080000Z
DTEND:20261008T080000Z
END:VEVENT
END:VCALENDAR