BEGIN:VCALENDAR
VERSION:2.0
PRODID:spatie/icalendar-generator
BEGIN:VTIMEZONE
TZID:UTC
BEGIN:STANDARD
DTSTART:20250728T164749
TZOFFSETFROM:+0000
TZOFFSETTO:+0000
END:STANDARD
END:VTIMEZONE
BEGIN:VEVENT
UID:69eb9eb5478db
DTSTAMP:20260424T164749Z
SUMMARY:RADIKAL. REAL. Nouveau Réalisme und die Kunst der 1960er Jahre
DTSTART:20260904T080000Z
DTEND:20260904T080000Z
END:VEVENT
END:VCALENDAR