BEGIN:VCALENDAR
VERSION:2.0
PRODID:spatie/icalendar-generator
BEGIN:VTIMEZONE
TZID:UTC
BEGIN:STANDARD
DTSTART:20250729T002638
TZOFFSETFROM:+0000
TZOFFSETTO:+0000
END:STANDARD
END:VTIMEZONE
BEGIN:VEVENT
UID:69ec0a3ea9a5c
DTSTAMP:20260425T002638Z
SUMMARY:RADIKAL. REAL. Nouveau Réalisme und die Kunst der 1960er Jahre
DTSTART:20260822T080000Z
DTEND:20260822T080000Z
END:VEVENT
END:VCALENDAR