BEGIN:VCALENDAR
VERSION:2.0
PRODID:spatie/icalendar-generator
BEGIN:VTIMEZONE
TZID:UTC
BEGIN:STANDARD
DTSTART:20250728T190947
TZOFFSETFROM:+0000
TZOFFSETTO:+0000
END:STANDARD
END:VTIMEZONE
BEGIN:VEVENT
UID:69ebbffb6b3f2
DTSTAMP:20260424T190947Z
SUMMARY:RADIKAL. REAL. Nouveau Réalisme und die Kunst der 1960er Jahre
DTSTART:20260809T080000Z
DTEND:20260809T080000Z
END:VEVENT
END:VCALENDAR